Workbook

Sheet Forecast UK emissions
A1: Year | B1: UK Emissions Total | C1: Cumulative
A2: 2014 | B2: 862000000 | C2: =SUM($B$2:B2) -> 862000000 | E2: Source: How bad are bananas? (could get a more up to date figure, which would probably be higher, but using this one to be consistent with the other calculations)
A3: 2015 | B3: =B2*(100-'Emissions by Age'!$E$7)/100 -> 828382000 | C3: =SUM($B$2:B3) -> 1690382000
A4: 2016 | B4: =B3*(100-'Emissions by Age'!$E$7)/100 -> 796075102 | C4: =SUM($B$2:B4) -> 2486457102
A5: 2017 | B5: =B4*(100-'Emissions by Age'!$E$7)/100 -> 7.6502817e+08 | C5: =SUM($B$2:B5) -> 3.2514853e+09
A6: 2018 | B6: =B5*(100-'Emissions by Age'!$E$7)/100 -> 7.3519207e+08 | C6: =SUM($B$2:B6) -> 3.9866773e+09
A7: 2019 | B7: =B6*(100-'Emissions by Age'!$E$7)/100 -> 7.0651958e+08 | C7: =SUM($B$2:B7) -> 4.6931969e+09
A8: 2020 | B8: =B7*(100-'Emissions by Age'!$E$7)/100 -> 6.7896532e+08 | C8: =SUM($B$2:B8) -> 5.3721623e+09
A9: 2021 | B9: =B8*(100-'Emissions by Age'!$E$7)/100 -> 6.5248567e+08 | C9: =SUM($B$2:B9) -> 6.0246479e+09
A10: 2022 | B10: =B9*(100-'Emissions by Age'!$E$7)/100 -> 6.2703873e+08 | C10: =SUM($B$2:B10) -> 6.6516867e+09
A11: 2023 | B11: =B10*(100-'Emissions by Age'!$E$7)/100 -> 6.0258422e+08 | C11: =SUM($B$2:B11) -> 7.2542709e+09
A12: 2024 | B12: =B11*(100-'Emissions by Age'!$E$7)/100 -> 5.7908344e+08 | C12: =SUM($B$2:B12) -> 7.8333543e+09
A13: 2025 | B13: =B12*(100-'Emissions by Age'!$E$7)/100 -> 5.5649918e+08 | C13: =SUM($B$2:B13) -> 8.3898535e+09
A14: 2026 | B14: =B13*(100-'Emissions by Age'!$E$7)/100 -> 5.3479571e+08 | C14: =SUM($B$2:B14) -> 8.9246492e+09
... A18: 2030 | B18: =B17*(100-'Emissions by Age'!$E$7)/100 -> 4.5612247e+08 | C18: =SUM($B$2:B18) -> 1.0863239e+10

Sheet Emissions p year (child=adult)
A1: Row Labels | B1: Sum of Emissions per year (assuming children emit as much as adults)
A2: 2014 | B2: 30140489
A3: 2015 | B3: 58205878
A4: 2016 | B4: 84301421
A5: 2017 | B5: 1.0852774e+08
A6: 2018 | B6: 1.3098101e+08
A7: 2019 | B7: 1.5175313e+08
A8: 2020 | B8: 1.709319e+08
A9: 2021 | B9: 1.8860119e+08
A10: 2022 | B10: 2.048411e+08
A11: 2023 | B11: 2.197281e+08
A12: 2024 | B12: 2.3333519e+08
A13: 2025 | B13: 2.4573204e+08
... A23: 2035 | B23: 3.1634196e+08
A24: Grand Total | B24: 4.743771e+09

Sheet Rough calc emissions per year
A2: Year | B2: Population | C2: Women | D2: Births | E2: Born since 2014 | F2: Emissions per year (assuming children emit as much as adults) | G2: Cumulative | H2: Number 2014-2030 died | I2: Number born 2014 to 2030 | K2: Emissions of those born 2014-2030, assuming children emit as much as adults
A3: 2014 | B3: 61000000 | C3: =B3/2 -> 30500000 | D3: =65*C3/1000 -> 1982500 | E3: =SUM($D$3:D3) -> 1982500 | F3: =E3*'Emissions by Age'!C2 -> 30140489 | G3: =SUM($F$3:F3) -> 30140489 | H3: =IF((A3-$A$3)>=79, INDIRECT(ADDRESS(ROW(A3)-79, 4)), 0) -> 0 | I3: =MAX(IF(A3<=2030, E3, VLOOKUP(2030, $A$3:$E$24, 5, FALSE)) - SUM($H$3:H3), 0) -> 1982500 | K3: =I3*'Emissions by Age'!C2 -> 30140489
A4: 2015 | B4: =($B$24-$B$3)*(A4-$A$3)/($A$24-$A$3) + $B$3 -> 61580952 | C4: =B4/2 -> 30790476 | D4: =65*C4/1000 -> 2001381 | E4: =SUM($D$3:D4) -> 3983881 | F4: =E4*'Emissions by Age'!C3 -> 58205878 | G4: =SUM($F$3:F4) -> 88346367 | H4: =IF((A4-$A$3)>=79, INDIRECT(ADDRESS(ROW(A4)-79, 4)), 0) -> 0 | I4: =MAX(IF(A4<=2030, E4, VLOOKUP(2030, $A$3:$E$24, 5, FALSE)) - SUM($H$3:H4), 0) -> 3983881 | K4: =I4*'Emissions by Age'!C3 -> 58205878
A5: 2016 | B5: =($B$24-$B$3)*(A5-$A$3)/($A$24-$A$3) + $B$3 -> 62161905 | C5: =B5/2 -> 31080952 | D5: =65*C5/1000 -> 2020261.9 | E5: =SUM($D$3:D5) -> 6004142.9 | F5: =E5*'Emissions by Age'!C4 -> 84301421 | G5: =SUM($F$3:F5) -> 1.7264779e+08 | H5: =IF((A5-$A$3)>=79, INDIRECT(ADDRESS(ROW(A5)-79, 4)), 0) -> 0 | I5: =MAX(IF(A5<=2030, E5, VLOOKUP(2030, $A$3:$E$24, 5, FALSE)) - SUM($H$3:H5), 0) -> 6004142.9 | K5: =I5*'Emissions by Age'!C4 -> 84301421
A6: 2017 | B6: =($B$24-$B$3)*(A6-$A$3)/($A$24-$A$3) + $B$3 -> 62742857 | C6: =B6/2 -> 31371429 | D6: =65*C6/1000 -> 2039142.9 | E6: =SUM($D$3:D6) -> 8043285.7 | F6: =E6*'Emissions by Age'!C5 -> 1.0852774e+08 | G6: =SUM($F$3:F6) -> 2.8117553e+08 | H6: =IF((A6-$A$3)>=79, INDIRECT(ADDRESS(ROW(A6)-79, 4)), 0) -> 0 | I6: =MAX(IF(A6<=2030, E6, VLOOKUP(2030, $A$3:$E$24, 5, FALSE)) - SUM($H$3:H6), 0) -> 8043285.7 | K6: =I6*'Emissions by Age'!C5 -> 1.0852774e+08
A7: 2018 | B7: =($B$24-$B$3)*(A7-$A$3)/($A$24-$A$3) + $B$3 -> 63323810 | C7: =B7/2 -> 31661905 | D7: =65*C7/1000 -> 2058023.8 | E7: =SUM($D$3:D7) -> 10101310 | F7: =E7*'Emissions by Age'!C6 -> 1.3098101e+08 | G7: =SUM($F$3:F7) -> 4.1215654e+08 | H7: =IF((A7-$A$3)>=79, INDIRECT(ADDRESS(ROW(A7)-79, 4)), 0) -> 0 | I7: =MAX(IF(A7<=2030, E7, VLOOKUP(2030, $A$3:$E$24, 5, FALSE)) - SUM($H$3:H7), 0) -> 10101310 | K7: =I7*'Emissions by Age'!C6 -> 1.3098101e+08
A8: 2019 | B8: =($B$24-$B$3)*(A8-$A$3)/($A$24-$A$3) + $B$3 -> 63904762 | C8: =B8/2 -> 31952381 | D8: =65*C8/1000 -> 2076904.8 | E8: =SUM($D$3:D8) -> 12178214 | F8: =E8*'Emissions by Age'!C7 -> 1.5175313e+08 | G8: =SUM($F$3:F8) -> 5.6390967e+08 | H8: =IF((A8-$A$3)>=79, INDIRECT(ADDRESS(ROW(A8)-79, 4)), 0) -> 0 | I8: =MAX(IF(A8<=2030, E8, VLOOKUP(2030, $A$3:$E$24, 5, FALSE)) - SUM($H$3:H8), 0) -> 12178214 | K8: =I8*'Emissions by Age'!C7 -> 1.5175313e+08
A9: 2020 | B9: =($B$24-$B$3)*(A9-$A$3)/($A$24-$A$3) + $B$3 -> 64485714 | C9: =B9/2 -> 32242857 | D9: =65*C9/1000 -> 2095785.7 | E9: =SUM($D$3:D9) -> 14274000 | F9: =E9*'Emissions by Age'!C8 -> 1.709319e+08 | G9: =SUM($F$3:F9) -> 7.3484157e+08 | H9: =IF((A9-$A$3)>=79, INDIRECT(ADDRESS(ROW(A9)-79, 4)), 0) -> 0 | I9: =MAX(IF(A9<=2030, E9, VLOOKUP(2030, $A$3:$E$24, 5, FALSE)) - SUM($H$3:H9), 0) -> 14274000 | K9: =I9*'Emissions by Age'!C8 -> 1.709319e+08
A10: 2021 | B10: =($B$24-$B$3)*(A10-$A$3)/($A$24-$A$3) + $B$3 -> 65066667 | C10: =B10/2 -> 32533333 | D10: =65*C10/1000 -> 2114666.7 | E10: =SUM($D$3:D10) -> 16388667 | F10: =E10*'Emissions by Age'!C9 -> 1.8860119e+08 | G10: =SUM($F$3:F10) -> 9.2344276e+08 | H10: =IF((A10-$A$3)>=79, INDIRECT(ADDRESS(ROW(A10)-79, 4)), 0) -> 0 | I10: =MAX(IF(A10<=2030, E10, VLOOKUP(2030, $A$3:$E$24, 5, FALSE)) - SUM($H$3:H10), 0) -> 16388667 | K10: =I10*'Emissions by Age'!C9 -> 1.8860119e+08
A11: 2022 | B11: =($B$24-$B$3)*(A11-$A$3)/($A$24-$A$3) + $B$3 -> 65647619 | C11: =B11/2 -> 32823810 | D11: =65*C11/1000 -> 2133547.6 | E11: =SUM($D$3:D11) -> 18522214 | F11: =E11*'Emissions by Age'!C10 -> 2.048411e+08 | G11: =SUM($F$3:F11) -> 1.1282839e+09 | H11: =IF((A11-$A$3)>=79, INDIRECT(ADDRESS(ROW(A11)-79, 4)), 0) -> 0 | I11: =MAX(IF(A11<=2030, E11, VLOOKUP(2030, $A$3:$E$24, 5, FALSE)) - SUM($H$3:H11), 0) -> 18522214 | K11: =I11*'Emissions by Age'!C10 -> 2.048411e+08
A12: 2023 | B12: =($B$24-$B$3)*(A12-$A$3)/($A$24-$A$3) + $B$3 -> 66228571 | C12: =B12/2 -> 33114286 | D12: =65*C12/1000 -> 2152428.6 | E12: =SUM($D$3:D12) -> 20674643 | F12: =E12*'Emissions by Age'!C11 -> 2.197281e+08 | G12: =SUM($F$3:F12) -> 1.348012e+09 | H12: =IF((A12-$A$3)>=79, INDIRECT(ADDRESS(ROW(A12)-79, 4)), 0) -> 0 | I12: =MAX(IF(A12<=2030, E12, VLOOKUP(2030, $A$3:$E$24, 5, FALSE)) - SUM($H$3:H12), 0) -> 20674643 | K12: =I12*'Emissions by Age'!C11 -> 2.197281e+08
A13: 2024 | B13: =($B$24-$B$3)*(A13-$A$3)/($A$24-$A$3) + $B$3 -> 66809524 | C13: =B13/2 -> 33404762 | D13: =65*C13/1000 -> 2171309.5 | E13: =SUM($D$3:D13) -> 22845952 | F13: =E13*'Emissions by Age'!C12 -> 2.3333519e+08 | G13: =SUM($F$3:F13) -> 1.5813472e+09 | H13: =IF((A13-$A$3)>=79, INDIRECT(ADDRESS(ROW(A13)-79, 4)), 0) -> 0 | I13: =MAX(IF(A13<=2030, E13, VLOOKUP(2030, $A$3:$E$24, 5, FALSE)) - SUM($H$3:H13), 0) -> 22845952 | K13: =I13*'Emissions by Age'!C12 -> 2.3333519e+08
A14: 2025 | B14: =($B$24-$B$3)*(A14-$A$3)/($A$24-$A$3) + $B$3 -> 67390476 | C14: =B14/2 -> 33695238 | D14: =65*C14/1000 -> 2190190.5 | E14: =SUM($D$3:D14) -> 25036143 | F14: =E14*'Emissions by Age'!C13 -> 2.4573204e+08 | G14: =SUM($F$3:F14) -> 1.8270792e+09 | H14: =IF((A14-$A$3)>=79, INDIRECT(ADDRESS(ROW(A14)-79, 4)), 0) -> 0 | I14: =MAX(IF(A14<=2030, E14, VLOOKUP(2030, $A$3:$E$24, 5, FALSE)) - SUM($H$3:H14), 0) -> 25036143 | K14: =I14*'Emissions by Age'!C13 -> 2.4573204e+08
A15: 2026 | B15: =($B$24-$B$3)*(A15-$A$3)/($A$24-$A$3) + $B$3 -> 67971429 | C15: =B15/2 -> 33985714 | D15: =65*C15/1000 -> 2209071.4 | E15: =SUM($D$3:D15) -> 27245214 | F15: =E15*'Emissions by Age'!C14 -> 2.5698512e+08 | G15: =SUM($F$3:F15) -> 2.0840643e+09 | H15: =IF((A15-$A$3)>=79, INDIRECT(ADDRESS(ROW(A15)-79, 4)), 0) -> 0 | I15: =MAX(IF(A15<=2030, E15, VLOOKUP(2030, $A$3:$E$24, 5, FALSE)) - SUM($H$3:H15), 0) -> 27245214 | K15: =I15*'Emissions by Age'!C14 -> 2.5698512e+08
... A23: 2034 | B23: =($B$24-$B$3)*(A23-$A$3)/($A$24-$A$3) + $B$3 -> 72619048 | C23: =B23/2 -> 36309524 | D23: =65*C23/1000 -> 2360119 | E23: =SUM($D$3:D23) -> 45597500 | F23: =E23*'Emissions by Age'!C22 -> 3.1285701e+08 | G23: =SUM($F$3:F23) -> 4.4274291e+09 | H23: =IF((A23-$A$3)>=79, INDIRECT(ADDRESS(ROW(A23)-79, 4)), 0) -> 0 | I23: =MAX(IF(A23<=2030, E23, VLOOKUP(2030, $A$3:$E$24, 5, FALSE)) - SUM($H$3:H23), 0) -> 36270310 | K23: =I23*'Emissions by Age'!C22 -> 2.4886058e+08
A24: 2035 | B24: 73200000 | C24: =B24/2 -> 36600000 | D24: =65*C24/1000 -> 2379000 | E24: =SUM($D$3:D24) -> 47976500 | F24: =E24*'Emissions by Age'!C23 -> 3.1634196e+08 | G24: =SUM($F$3:F24) -> 4.743771e+09 | H24: =IF((A24-$A$3)>=79, INDIRECT(ADDRESS(ROW(A24)-79, 4)), 0) -> 0 | I24: =MAX(IF(A24<=2030, E24, VLOOKUP(2030, $A$3:$E$24, 5, FALSE)) - SUM($H$3:H24), 0) -> 36270310 | K24: =I24*'Emissions by Age'!C23 -> 2.3915502e+08
A25: 2036 | H25: =IF((A25-$A$3)>=79, INDIRECT(ADDRESS(ROW(A25)-79, 4)), 0) -> 0 | I25: =MAX(IF(A25<=2030, E25, VLOOKUP(2030, $A$3:$E$24, 5, FALSE)) - SUM($H$3:H25), 0) -> 36270310 | K25: =I25*'Emissions by Age'!C24 -> 2.2982798e+08
A26: 2037 | H26: =IF((A26-$A$3)>=79, INDIRECT(ADDRESS(ROW(A26)-79, 4)), 0) -> 0 | I26: =MAX(IF(A26<=2030, E26, VLOOKUP(2030, $A$3:$E$24, 5, FALSE)) - SUM($H$3:H26), 0) -> 36270310 | K26: =I26*'Emissions by Age'!C25 -> 2.2086469e+08
A27: 2038 | H27: =IF((A27-$A$3)>=79, INDIRECT(ADDRESS(ROW(A27)-79, 4)), 0) -> 0 | I27: =MAX(IF(A27<=2030, E27, VLOOKUP(2030, $A$3:$E$24, 5, FALSE)) - SUM($H$3:H27), 0) -> 36270310 | K27: =I27*'Emissions by Age'!C26 -> 2.1225096e+08
A28: 2039 | H28: =IF((A28-$A$3)>=79, INDIRECT(ADDRESS(ROW(A28)-79, 4)), 0) -> 0 | I28: =MAX(IF(A28<=2030, E28, VLOOKUP(2030, $A$3:$E$24, 5, FALSE)) - SUM($H$3:H28), 0) -> 36270310 | K28: =I28*'Emissions by Age'!C27 -> 2.0397317e+08
A29: 2040 | H29: =IF((A29-$A$3)>=79, INDIRECT(ADDRESS(ROW(A29)-79, 4)), 0) -> 0 | I29: =MAX(IF(A29<=2030, E29, VLOOKUP(2030, $A$3:$E$24, 5, FALSE)) - SUM($H$3:H29), 0) -> 36270310 | K29: =I29*'Emissions by Age'!C28 -> 1.9601822e+08
A30: 2041 | H30: =IF((A30-$A$3)>=79, INDIRECT(ADDRESS(ROW(A30)-79, 4)), 0) -> 0 | I30: =MAX(IF(A30<=2030, E30, VLOOKUP(2030, $A$3:$E$24, 5, FALSE)) - SUM($H$3:H30), 0) -> 36270310 | K30: =I30*'Emissions by Age'!C29 -> 1.8837351e+08
A31: 2042 | H31: =IF((A31-$A$3)>=79, INDIRECT(ADDRESS(ROW(A31)-79, 4)), 0) -> 0 | I31: =MAX(IF(A31<=2030, E31, VLOOKUP(2030, $A$3:$E$24, 5, FALSE)) - SUM($H$3:H31), 0) -> 36270310 | K31: =I31*'Emissions by Age'!C30 -> 1.8102694e+08
A32: 2043 | H32: =IF((A32-$A$3)>=79, INDIRECT(ADDRESS(ROW(A32)-79, 4)), 0) -> 0 | I32: =MAX(IF(A32<=2030, E32, VLOOKUP(2030, $A$3:$E$24, 5, FALSE)) - SUM($H$3:H32), 0) -> 36270310 | K32: =I32*'Emissions by Age'!C31 -> 1.7396689e+08
A33: 2044 | H33: =IF((A33-$A$3)>=79, INDIRECT(ADDRESS(ROW(A33)-79, 4)), 0) -> 0 | I33: =MAX(IF(A33<=2030, E33, VLOOKUP(2030, $A$3:$E$24, 5, FALSE)) - SUM($H$3:H33), 0) -> 36270310 | K33: =I33*'Emissions by Age'!C32 -> 1.6718218e+08
A34: 2045 | H34: =IF((A34-$A$3)>=79, INDIRECT(ADDRESS(ROW(A34)-79, 4)), 0) -> 0 | I34: =MAX(IF(A34<=2030, E34, VLOOKUP(2030, $A$3:$E$24, 5, FALSE)) - SUM($H$3:H34), 0) -> 36270310 | K34: =I34*'Emissions by Age'!C33 -> 1.6066208e+08
A35: 2046 | H35: =IF((A35-$A$3)>=79, INDIRECT(ADDRESS(ROW(A35)-79, 4)), 0) -> 0 | I35: =MAX(IF(A35<=2030, E35, VLOOKUP(2030, $A$3:$E$24, 5, FALSE)) - SUM($H$3:H35), 0) -> 36270310 | K35: =I35*'Emissions by Age'!C34 -> 1.5439626e+08
A36: 2047 | H36: =IF((A36-$A$3)>=79, INDIRECT(ADDRESS(ROW(A36)-79, 4)), 0) -> 0 | I36: =MAX(IF(A36<=2030, E36, VLOOKUP(2030, $A$3:$E$24, 5, FALSE)) - SUM($H$3:H36), 0) -> 36270310 | K36: =I36*'Emissions by Age'!C35 -> 1.483748e+08
... A101: 2112 | H101: =IF((A101-$A$3)>=79, INDIRECT(ADDRESS(ROW(A101)-79, 4)), 0) -> 2341238.1 | I101: =MAX(IF(A101<=2030, E101, VLOOKUP(2030, $A$3:$E$24, 5, FALSE)) - SUM($H$3:H101), 0) -> 0 | K101: =I101*'Emissions by Age'!C100 -> 0

Sheet Emissions by Age
A1: Age | B1: Weighting | C1: Annual emissions
A2: 1 | B2: 1000 | C2: =$E$4*B2/SUM($B$2:$B$80) -> 15.203273
A3: 2 | B3: =B2*(100-$E$7)/100 -> 961 | C3: =$E$4*B3/SUM($B$2:$B$80) -> 14.610346 | E3: Average per person total
A4: 3 | B4: =B3*(100-$E$7)/100 -> 923.521 | C4: =$E$4*B4/SUM($B$2:$B$80) -> 14.040542 | E4: 373 | F4: tonnes CO2 equivalent | I4: Source: How bad are bananas?
A5: 4 | B5: =B4*(100-$E$7)/100 -> 887.50368 | C5: =$E$4*B5/SUM($B$2:$B$80) -> 13.492961
A6: 5 | B6: =B5*(100-$E$7)/100 -> 852.89104 | C6: =$E$4*B6/SUM($B$2:$B$80) -> 12.966736 | E6: Rate of decrease of emissions
A7: 6 | B7: =B6*(100-$E$7)/100 -> 819.62829 | C7: =$E$4*B7/SUM($B$2:$B$80) -> 12.461033 | E7: 3.9 | F7: % per annum | I7: Source: How bad are bananas?
A8: 7 | B8: =B7*(100-$E$7)/100 -> 787.66278 | C8: =$E$4*B8/SUM($B$2:$B$80) -> 11.975053
A9: 8 | B9: =B8*(100-$E$7)/100 -> 756.94394 | C9: =$E$4*B9/SUM($B$2:$B$80) -> 11.508026
A10: 9 | B10: =B9*(100-$E$7)/100 -> 727.42312 | C10: =$E$4*B10/SUM($B$2:$B$80) -> 11.059213
A11: 10 | B11: =B10*(100-$E$7)/100 -> 699.05362 | C11: =$E$4*B11/SUM($B$2:$B$80) -> 10.627903
A12: 11 | B12: =B11*(100-$E$7)/100 -> 671.79053 | C12: =$E$4*B12/SUM($B$2:$B$80) -> 10.213415
A13: 12 | B13: =B12*(100-$E$7)/100 -> 645.5907 | C13: =$E$4*B13/SUM($B$2:$B$80) -> 9.8150918
A14: 13 | B14: =B13*(100-$E$7)/100 -> 620.41266 | C14: =$E$4*B14/SUM($B$2:$B$80) -> 9.4323032
A15: 14 | B15: =B14*(100-$E$7)/100 -> 596.21657 | C15: =$E$4*B15/SUM($B$2:$B$80) -> 9.0644434
A16: 15 | B16: =B15*(100-$E$7)/100 -> 572.96412 | C16: =$E$4*B16/SUM($B$2:$B$80) -> 8.7109301
A17: 16 | B17: =B16*(100-$E$7)/100 -> 550.61852 | C17: =$E$4*B17/SUM($B$2:$B$80) -> 8.3712038
A18: 17 | B18: =B17*(100-$E$7)/100 -> 529.1444 | C18: =$E$4*B18/SUM($B$2:$B$80) -> 8.0447269
A19: 18 | B19: =B18*(100-$E$7)/100 -> 508.50777 | C19: =$E$4*B19/SUM($B$2:$B$80) -> 7.7309825
... A80: 79 | B80: =B79*(100-$E$7)/100 -> 44.918396 | C80: =$E$4*B80/SUM($B$2:$B$80) -> 0.68290665
A81: 80 | C81: =C80*(100-$E$7)/100 -> 0.65627329
A82: 81 | C82: =C81*(100-$E$7)/100 -> 0.63067863
A83: 82 | C83: =C82*(100-$E$7)/100 -> 0.60608216
A84: 83 | C84: =C83*(100-$E$7)/100 -> 0.58244496
A85: 84 | C85: =C84*(100-$E$7)/100 -> 0.55972961
A86: 85 | C86: =C85*(100-$E$7)/100 -> 0.53790015
A87: 86 | C87: =C86*(100-$E$7)/100 -> 0.51692205
A88: 87 | C88: =C87*(100-$E$7)/100 -> 0.49676209
A89: 88 | C89: =C88*(100-$E$7)/100 -> 0.47738836
A90: 89 | C90: =C89*(100-$E$7)/100 -> 0.45877022
A91: 90 | C91: =C90*(100-$E$7)/100 -> 0.44087818
A92: 91 | C92: =C91*(100-$E$7)/100 -> 0.42368393
... A136: 135 | C136: =C135*(100-$E$7)/100 -> 0.073598854
